BEGIN:VCALENDAR
VERSION:2.0
PRODID:-//Dasmesh Darbar Gurudwara - ECPv5.3.1.1//NONSGML v1.0//EN
CALSCALE:GREGORIAN
METHOD:PUBLISH
X-WR-CALNAME:Dasmesh Darbar Gurudwara
X-ORIGINAL-URL:https://www.dasmeshdarbar.co.nz
X-WR-CALDESC:Events for Dasmesh Darbar Gurudwara
BEGIN:VTIMEZONE
TZID:Pacific/Auckland
BEGIN:STANDARD
TZOFFSETFROM:+1300
TZOFFSETTO:+1200
TZNAME:NZST
DTSTART:20210403T140000
END:STANDARD
BEGIN:DAYLIGHT
TZOFFSETFROM:+1200
TZOFFSETTO:+1300
TZNAME:NZDT
DTSTART:20210925T140000
END:DAYLIGHT
END:VTIMEZONE
BEGIN:VEVENT
DTSTART;TZID=Pacific/Auckland:20210124T090000
DTEND;TZID=Pacific/Auckland:20210124T130000
DTSTAMP:20210120T152915
CREATED:20201225T222051Z
LAST-MODIFIED:20201225T222144Z
UID:1612-1611478800-1611493200@www.dasmeshdarbar.co.nz
SUMMARY:CPNZ and NZ Police will hold a Safer Plates event
DESCRIPTION:
URL:https://www.dasmeshdarbar.co.nz/event/cpnz-and-nz-police-will-hold-a-safer-plates-event/
LOCATION:Dasmesh Darbar\, 166\, Kolmar Road\, Papatoetoe\,\, Manukau City\, Auckland\, P.O.76688\, New Zealand
CATEGORIES:dasmeshdarbar
ATTACH;FMTTYPE=image/jpeg:https://www.dasmeshdarbar.co.nz/wp-content/uploads/2020/12/Flyer-2-1.jpg
END:VEVENT
END:VCALENDAR